View In:
ArcGIS JavaScript
ArcGIS Online Map Viewer
ArcGIS Earth
Service Description: DG5009/campania_cartografica_v2_tif
Name: DG5009/campania_cartografica_v2_tif
Description:
Single Fused Map Cache: false
Extent:
XMin: -168277.69711269496
YMin: 3888105.2469770303
XMax: 831722.3039073054
YMax: 5233705.248349543
Spatial Reference: 32633
(32633)
LatestVCSWkid(0)
Initial Extent:
XMin: -168277.69711269496
YMin: 3888105.2469770303
XMax: 831722.3039073054
YMax: 5233705.248349543
Spatial Reference: 32633
(32633)
LatestVCSWkid(0)
Full Extent:
XMin: -168277.69711269496
YMin: 3888105.2469770303
XMax: 831722.3039073054
YMax: 5233705.248349543
Spatial Reference: 32633
(32633)
LatestVCSWkid(0)
Pixel Size X: 33.86730792224067
Pixel Size Y: 33.86690832005719
Band Count: 4
Pixel Type: U8
RasterFunction Infos: {"rasterFunctionInfos": [{
"name": "None",
"description": "",
"help": ""
}]}
Mensuration Capabilities: Basic
Inspection Capabilities:
Has Histograms: true
Has Colormap: false
Has Multi Dimensions : false
Rendering Rule:
Min Scale: 0
Max Scale: 0
Copyright Text:
Service Data Type: esriImageServiceDataTypeGeneric
Min Values: 0, 0, 0, 0
Max Values: 255, 255, 255, 255
Mean Values: 160.75645069169, 173.21597556004, 179.75722537149, 210.29862580191
Standard Deviation Values: 85.271577748786, 88.006867708054, 90.932545458576, 96.956885137928
Object ID Field:
Fields:
None
Default Mosaic Method: Center
Allowed Mosaic Methods:
SortField:
SortValue: null
Mosaic Operator: First
Default Compression Quality: 75
Default Resampling Method: Bilinear
Max Record Count: null
Max Image Height: 4100
Max Image Width: 15000
Max Download Image Count: null
Max Mosaic Image Count: null
Allow Raster Function: true
Allow Copy: true
Allow Analysis: true
Allow Compute TiePoints: false
Supports Statistics: false
Supports Advanced Queries: false
Use StandardizedQueries: true
Raster Type Infos:
Name: Raster Dataset
Description: Supports all ArcGIS Raster Datasets
Help:
Has Raster Attribute Table: false
Edit Fields Info: null
Ownership Based AccessControl For Rasters: null
Child Resources:
Info
Histograms
Statistics
Key Properties
Legend
Raster Function Infos
Supported Operations:
Export Image
Identify
Measure
Compute Histograms
Compute Statistics Histograms
Get Samples
Compute Class Statistics
Query Boundary
Compute Pixel Location
Compute Angles
Validate
Project