{
 "currentVersion": 11.4,
 "serviceDescription": "DG5009/campania_cartografica_v2_tif",
 "name": "DG5009/campania_cartografica_v2_tif",
 "description": "",
 "extent": {
  "xmin": -168277.69711269496,
  "ymin": 3888105.2469770303,
  "xmax": 831722.3039073054,
  "ymax": 5233705.248349543,
  "spatialReference": {
   "wkid": 32633,
   "latestWkid": 32633
  }
 },
 "initialExtent": {
  "xmin": -168277.69711269496,
  "ymin": 3888105.2469770303,
  "xmax": 831722.3039073054,
  "ymax": 5233705.248349543,
  "spatialReference": {
   "wkid": 32633,
   "latestWkid": 32633
  }
 },
 "fullExtent": {
  "xmin": -168277.69711269496,
  "ymin": 3888105.2469770303,
  "xmax": 831722.3039073054,
  "ymax": 5233705.248349543,
  "spatialReference": {
   "wkid": 32633,
   "latestWkid": 32633
  }
 },
 "sortableFields": "",
 "bandCount": 4,
 "pixelType": "U8",
 "minValues": [
  0,
  0,
  0,
  0
 ],
 "maxValues": [
  255,
  255,
  255,
  255
 ],
 "meanValues": [
  160.75645069169,
  173.21597556004,
  179.75722537149,
  210.29862580191
 ],
 "stdvValues": [
  85.271577748786,
  88.006867708054,
  90.932545458576,
  96.956885137928
 ],
 "hasMultidimensions": false,
 "pixelSizeX": 33.86730792224067,
 "pixelSizeY": 33.86690832005719,
 "meanPixelSize": 33.86710812114893,
 "datasetFormat": "TIFF",
 "uncompressedSize": 4692667056,
 "blockWidth": 29527,
 "blockHeight": 35,
 "compressionType": "LZW",
 "bandNames": [
  "Band_1",
  "Band_2",
  "Band_3",
  "Band_4"
 ],
 "allowCopy": true,
 "allowAnalysis": true,
 "itemAccess": false,
 "inspectionCapabilities": "",
 "minPixelSize": 0,
 "maxPixelSize": 0,
 "copyrightText": "",
 "serviceDataType": "esriImageServiceDataTypeGeneric",
 "serviceSourceType": "esriImageServiceSourceTypeDataset",
 "objectIdField": "",
 "fields": [],
 "capabilities": "Image,Metadata,Mensuration",
 "defaultMosaicMethod": "Center",
 "allowedMosaicMethods": "",
 "sortField": "",
 "sortValue": null,
 "sortAscending": true,
 "mosaicOperator": "First",
 "defaultCompressionQuality": 75,
 "defaultResamplingMethod": "Bilinear",
 "maxImageHeight": 4100,
 "maxImageWidth": 15000,
 "allowRasterFunction": true,
 "rasterFunctionInfos": [
  {
   "name": "None",
   "description": "",
   "help": ""
  }
 ],
 "rasterTypeInfos": [
  {
   "name": "Raster Dataset",
   "description": "Supports all ArcGIS Raster Datasets",
   "help": ""
  }
 ],
 "mensurationCapabilities": "Basic",
 "hasHistograms": true,
 "hasColormap": false,
 "hasRasterAttributeTable": false,
 "minScale": 0,
 "maxScale": 0,
 "exportTilesAllowed": false,
 "supportsStatistics": false,
 "supportsAdvancedQueries": false,
 "editFieldsInfo": null,
 "ownershipBasedAccessControlForRasters": null,
 "allowComputeTiePoints": false,
 "useStandardizedQueries": true,
 "advancedQueryCapabilities": {
  "useStandardizedQueries": true,
  "supportsStatistics": false,
  "supportsOrderBy": false,
  "supportsDistinct": false,
  "supportsPagination": false
 },
 "spatialReference": {
  "wkid": 32633,
  "latestWkid": 32633
 }
}
