View In:
ArcGIS JavaScript
ArcGIS Online Map Viewer
ArcGIS Earth
Service Description: DG5009/CTR2020_1bit_tif
Name: DG5009/CTR2020_1bit_tif
Description:
Single Fused Map Cache: false
Extent:
XMin: 396190.40474382543
YMin: 4426798.805368362
XMax: 568708.9558743538
YMax: 4595494.409188278
Spatial Reference: 32633
(32633)
LatestVCSWkid(0)
Initial Extent:
XMin: 396190.40474382543
YMin: 4426798.805368362
XMax: 568708.9558743538
YMax: 4595494.409188278
Spatial Reference: 32633
(32633)
LatestVCSWkid(0)
Full Extent:
XMin: 396190.40474382543
YMin: 4426798.805368362
XMax: 568708.9558743538
YMax: 4595494.409188278
Spatial Reference: 32633
(32633)
LatestVCSWkid(0)
Pixel Size X: 0.31738873479554697
Pixel Size Y: 0.3173887347955471
Band Count: 1
Pixel Type: U1
RasterFunction Infos: {"rasterFunctionInfos": [
{
"name": "CTR1bit_95bianco_3",
"description": "Vestizione CTR 1bit ",
"help": ""
},
{
"name": "None",
"description": "",
"help": ""
}
]}
Mensuration Capabilities: Basic
Inspection Capabilities:
Has Histograms: true
Has Colormap: false
Has Multi Dimensions : false
Rendering Rule:
Min Scale: 0
Max Scale: 0
Copyright Text:
Service Data Type: esriImageServiceDataTypeThematic
Min Values: 0
Max Values: 1
Mean Values: 0.95773936527465
Standard Deviation Values: 0.20118321042902
Object ID Field:
Fields:
None
Default Mosaic Method: Center
Allowed Mosaic Methods:
SortField:
SortValue: null
Mosaic Operator: First
Default Compression Quality: 75
Default Resampling Method: Bilinear
Max Record Count: null
Max Image Height: 4100
Max Image Width: 15000
Max Download Image Count: null
Max Mosaic Image Count: null
Allow Raster Function: true
Allow Copy: true
Allow Analysis: true
Allow Compute TiePoints: false
Supports Statistics: false
Supports Advanced Queries: false
Use StandardizedQueries: true
Raster Type Infos:
Name: Raster Dataset
Description: Supports all ArcGIS Raster Datasets
Help:
Has Raster Attribute Table: false
Edit Fields Info: null
Ownership Based AccessControl For Rasters: null
Child Resources:
Info
Histograms
Statistics
Key Properties
Legend
Raster Function Infos
Supported Operations:
Export Image
Identify
Measure
Compute Histograms
Compute Statistics Histograms
Get Samples
Compute Class Statistics
Query Boundary
Compute Pixel Location
Compute Angles
Validate
Project