{
 "currentVersion": 11.4,
 "serviceDescription": "DG5009/CTR2020_1bit_tif",
 "name": "DG5009/CTR2020_1bit_tif",
 "description": "",
 "extent": {
  "xmin": 396190.40474382543,
  "ymin": 4426798.805368362,
  "xmax": 568708.9558743538,
  "ymax": 4595494.409188278,
  "spatialReference": {
   "wkid": 32633,
   "latestWkid": 32633
  }
 },
 "initialExtent": {
  "xmin": 396190.40474382543,
  "ymin": 4426798.805368362,
  "xmax": 568708.9558743538,
  "ymax": 4595494.409188278,
  "spatialReference": {
   "wkid": 32633,
   "latestWkid": 32633
  }
 },
 "fullExtent": {
  "xmin": 396190.40474382543,
  "ymin": 4426798.805368362,
  "xmax": 568708.9558743538,
  "ymax": 4595494.409188278,
  "spatialReference": {
   "wkid": 32633,
   "latestWkid": 32633
  }
 },
 "sortableFields": "",
 "bandCount": 1,
 "pixelType": "U1",
 "minValues": [
  0
 ],
 "maxValues": [
  1
 ],
 "meanValues": [
  0.95773936527465
 ],
 "stdvValues": [
  0.20118321042902
 ],
 "hasMultidimensions": false,
 "pixelSizeX": 0.31738873479554697,
 "pixelSizeY": 0.3173887347955471,
 "meanPixelSize": 0.317388734795547,
 "datasetFormat": "TIFF",
 "uncompressedSize": 36113249140,
 "blockWidth": 128,
 "blockHeight": 128,
 "compressionType": "LZW",
 "bandNames": [
  "Band_1"
 ],
 "allowCopy": true,
 "allowAnalysis": true,
 "itemAccess": false,
 "inspectionCapabilities": "",
 "minPixelSize": 0,
 "maxPixelSize": 0,
 "copyrightText": "",
 "serviceDataType": "esriImageServiceDataTypeThematic",
 "serviceSourceType": "esriImageServiceSourceTypeDataset",
 "objectIdField": "",
 "fields": [],
 "capabilities": "Image,Metadata,Mensuration",
 "defaultMosaicMethod": "Center",
 "allowedMosaicMethods": "",
 "sortField": "",
 "sortValue": null,
 "sortAscending": true,
 "mosaicOperator": "First",
 "defaultCompressionQuality": 75,
 "defaultResamplingMethod": "Bilinear",
 "maxImageHeight": 4100,
 "maxImageWidth": 15000,
 "allowRasterFunction": true,
 "rasterFunctionInfos": [
  {
   "name": "CTR1bit_95bianco_3",
   "description": "Vestizione CTR 1bit ",
   "help": ""
  },
  {
   "name": "None",
   "description": "",
   "help": ""
  }
 ],
 "rasterTypeInfos": [
  {
   "name": "Raster Dataset",
   "description": "Supports all ArcGIS Raster Datasets",
   "help": ""
  }
 ],
 "mensurationCapabilities": "Basic",
 "hasHistograms": true,
 "hasColormap": false,
 "hasRasterAttributeTable": false,
 "minScale": 0,
 "maxScale": 0,
 "exportTilesAllowed": false,
 "supportsStatistics": false,
 "supportsAdvancedQueries": false,
 "editFieldsInfo": null,
 "ownershipBasedAccessControlForRasters": null,
 "allowComputeTiePoints": false,
 "useStandardizedQueries": true,
 "advancedQueryCapabilities": {
  "useStandardizedQueries": true,
  "supportsStatistics": false,
  "supportsOrderBy": false,
  "supportsDistinct": false,
  "supportsPagination": false
 },
 "spatialReference": {
  "wkid": 32633,
  "latestWkid": 32633
 }
}
