View In:
ArcGIS JavaScript
ArcGIS Online Map Viewer
ArcGIS Earth
Service Description: INGV/tinitaly_1__1_tif
Name: INGV/tinitaly_1__1_tif
Description:
Single Fused Map Cache: false
Extent:
XMin: 899220.0
YMin: 4446500.0
XMax: 1078990.0
YMax: 4610200.0
Spatial Reference: 32632
(32632)
LatestVCSWkid(0)
Initial Extent:
XMin: 899220.0
YMin: 4446500.0
XMax: 1078990.0
YMax: 4610200.0
Spatial Reference: 32632
(32632)
LatestVCSWkid(0)
Full Extent:
XMin: 899220.0
YMin: 4446500.0
XMax: 1078990.0
YMax: 4610200.0
Spatial Reference: 32632
(32632)
LatestVCSWkid(0)
Pixel Size X: 10.0
Pixel Size Y: 10.0
Band Count: 1
Pixel Type: F32
RasterFunction Infos: {"rasterFunctionInfos": [
{
"name": "DEM",
"description": "Vestizione da INGV TIN Italy. E' utilizzabile anche per altri DEM.",
"help": ""
},
{
"name": "None",
"description": "",
"help": ""
}
]}
Mensuration Capabilities: Basic
Inspection Capabilities:
Has Histograms: true
Has Colormap: false
Has Multi Dimensions : false
Rendering Rule:
Min Scale: 0
Max Scale: 0
Resampling: false
Copyright Text:
Service Data Type: esriImageServiceDataTypeGeneric
Min Values: 0
Max Values: 1921.1619873047
Mean Values: 435.05745837079
Standard Deviation Values: 346.33067214513
Object ID Field:
Fields:
None
Default Mosaic Method: Center
Allowed Mosaic Methods:
SortField:
SortValue: null
Mosaic Operator: First
Default Compression Quality: 75
Default Resampling Method: Bilinear
Max Record Count: null
Max Image Height: 4100
Max Image Width: 15000
Max Download Image Count: null
Max Mosaic Image Count: null
Allow Raster Function: true
Allow Copy: true
Allow Analysis: true
Allow Compute TiePoints: false
Supports Statistics: false
Supports Advanced Queries: false
Use StandardizedQueries: true
Raster Type Infos:
Name: Raster Dataset
Description: Supports all ArcGIS Raster Datasets
Help:
Has Raster Attribute Table: false
Edit Fields Info: null
Ownership Based AccessControl For Rasters: null
Child Resources:
Info
Histograms
Statistics
Key Properties
Legend
Raster Function Infos
Supported Operations:
Export Image
Identify
Measure
Compute Histograms
Compute Statistics Histograms
Get Samples
Compute Class Statistics
Query Boundary
Compute Pixel Location
Compute Angles
Validate
Project