View In:
ArcGIS JavaScript
ArcGIS Online Map Viewer
ArcGIS Earth
Service Description: DG5009/CTR2020_DTM5K_tif
Name: DG5009/CTR2020_DTM5K_tif
Description:
Single Fused Map Cache: false
Extent:
XMin: 396265.0
YMin: 4426795.0
XMax: 568565.0
YMax: 4595455.0
Spatial Reference: 7792
(7792)
LatestVCSWkid(0)
Initial Extent:
XMin: 396265.0
YMin: 4426795.0
XMax: 568565.0
YMax: 4595455.0
Spatial Reference: 7792
(7792)
LatestVCSWkid(0)
Full Extent:
XMin: 396265.0
YMin: 4426795.0
XMax: 568565.0
YMax: 4595455.0
Spatial Reference: 7792
(7792)
LatestVCSWkid(0)
Pixel Size X: 5.0
Pixel Size Y: 5.0
Band Count: 1
Pixel Type: F32
RasterFunction Infos: {"rasterFunctionInfos": [
{
"name": "CTR2020 DTM",
"description": "CTR2020 DTM",
"help": ""
},
{
"name": "Esposizione",
"description": "Esposizione",
"help": ""
},
{
"name": "Hillshade",
"description": "Hillshade",
"help": ""
},
{
"name": "Pendenza",
"description": "Pendenza",
"help": ""
},
{
"name": "None",
"description": "",
"help": ""
}
]}
Mensuration Capabilities: Basic
Inspection Capabilities:
Has Histograms: true
Has Colormap: false
Has Multi Dimensions : false
Rendering Rule:
Min Scale: 0
Max Scale: 0
Copyright Text:
Service Data Type: esriImageServiceDataTypeGeneric
Min Values: -304307.625
Max Values: 11784.340820312
Mean Values: 434.49436601931
Standard Deviation Values: 347.22457607646
Object ID Field:
Fields:
None
Default Mosaic Method: Center
Allowed Mosaic Methods:
SortField:
SortValue: null
Mosaic Operator: First
Default Compression Quality: 75
Default Resampling Method: Bilinear
Max Record Count: null
Max Image Height: 4100
Max Image Width: 15000
Max Download Image Count: null
Max Mosaic Image Count: null
Allow Raster Function: true
Allow Copy: true
Allow Analysis: true
Allow Compute TiePoints: false
Supports Statistics: false
Supports Advanced Queries: false
Use StandardizedQueries: true
Raster Type Infos:
Name: Raster Dataset
Description: Supports all ArcGIS Raster Datasets
Help:
Has Raster Attribute Table: false
Edit Fields Info: null
Ownership Based AccessControl For Rasters: null
Child Resources:
Info
Histograms
Statistics
Key Properties
Legend
Raster Function Infos
Supported Operations:
Export Image
Identify
Measure
Compute Histograms
Compute Statistics Histograms
Get Samples
Compute Class Statistics
Query Boundary
Compute Pixel Location
Compute Angles
Validate
Project