{
 "currentVersion": 11.4,
 "serviceDescription": "DG5009/mosaico_2011_25K_tif",
 "name": "DG5009/mosaico_2011_25K_tif",
 "description": "",
 "extent": {
  "xmin": 388113.45,
  "ymin": 4426314.8285,
  "xmax": 571084.69,
  "ymax": 4596097.61,
  "spatialReference": {
   "wkid": 32633,
   "latestWkid": 32633
  }
 },
 "initialExtent": {
  "xmin": 388113.45,
  "ymin": 4426314.8285,
  "xmax": 571084.69,
  "ymax": 4596097.61,
  "spatialReference": {
   "wkid": 32633,
   "latestWkid": 32633
  }
 },
 "fullExtent": {
  "xmin": 388113.45,
  "ymin": 4426314.8285,
  "xmax": 571084.69,
  "ymax": 4596097.61,
  "spatialReference": {
   "wkid": 32633,
   "latestWkid": 32633
  }
 },
 "sortableFields": "",
 "bandCount": 1,
 "pixelType": "U8",
 "minValues": [],
 "maxValues": [],
 "meanValues": [],
 "stdvValues": [],
 "hasMultidimensions": false,
 "pixelSizeX": 3.1695406042128593,
 "pixelSizeY": 3.1695406033565536,
 "meanPixelSize": 3.1695406037847063,
 "datasetFormat": "TIFF",
 "uncompressedSize": 3092315776,
 "blockWidth": 57728,
 "blockHeight": 1,
 "compressionType": "None",
 "bandNames": [
  "Band_1"
 ],
 "allowCopy": true,
 "allowAnalysis": true,
 "itemAccess": false,
 "inspectionCapabilities": "",
 "minPixelSize": 0,
 "maxPixelSize": 0,
 "copyrightText": "",
 "serviceDataType": "esriImageServiceDataTypeGeneric",
 "serviceSourceType": "esriImageServiceSourceTypeDataset",
 "objectIdField": "",
 "fields": [],
 "capabilities": "Image,Metadata,Mensuration",
 "defaultMosaicMethod": "Center",
 "allowedMosaicMethods": "",
 "sortField": "",
 "sortValue": null,
 "sortAscending": true,
 "mosaicOperator": "First",
 "defaultCompressionQuality": 75,
 "defaultResamplingMethod": "Bilinear",
 "maxImageHeight": 4100,
 "maxImageWidth": 15000,
 "allowRasterFunction": true,
 "rasterFunctionInfos": [
  {
   "name": "None",
   "description": "",
   "help": ""
  }
 ],
 "rasterTypeInfos": [
  {
   "name": "Raster Dataset",
   "description": "Supports all ArcGIS Raster Datasets",
   "help": ""
  }
 ],
 "mensurationCapabilities": "Basic",
 "hasHistograms": false,
 "hasColormap": false,
 "hasRasterAttributeTable": false,
 "minScale": 0,
 "maxScale": 0,
 "exportTilesAllowed": false,
 "supportsStatistics": false,
 "supportsAdvancedQueries": false,
 "editFieldsInfo": null,
 "ownershipBasedAccessControlForRasters": null,
 "allowComputeTiePoints": false,
 "useStandardizedQueries": true,
 "advancedQueryCapabilities": {
  "useStandardizedQueries": true,
  "supportsStatistics": false,
  "supportsOrderBy": false,
  "supportsDistinct": false,
  "supportsPagination": false
 },
 "spatialReference": {
  "wkid": 32633,
  "latestWkid": 32633
 }
}
